BEGIN:VCALENDAR
VERSION:2.0
PRODID:-//White River Arkansas Guided Fly Fishing Float Trips - ECPv6.15.20//NONSGML v1.0//EN
CALSCALE:GREGORIAN
METHOD:PUBLISH
X-WR-CALNAME:White River Arkansas Guided Fly Fishing Float Trips
X-ORIGINAL-URL:https://arkansasstreamside.com
X-WR-CALDESC:Events for White River Arkansas Guided Fly Fishing Float Trips
REFRESH-INTERVAL;VALUE=DURATION:PT1H
X-Robots-Tag:noindex
X-PUBLISHED-TTL:PT1H
BEGIN:VTIMEZONE
TZID:America/Detroit
BEGIN:DAYLIGHT
TZOFFSETFROM:-0500
TZOFFSETTO:-0400
TZNAME:EDT
DTSTART:20190310T070000
END:DAYLIGHT
BEGIN:STANDARD
TZOFFSETFROM:-0400
TZOFFSETTO:-0500
TZNAME:EST
DTSTART:20191103T060000
END:STANDARD
BEGIN:DAYLIGHT
TZOFFSETFROM:-0500
TZOFFSETTO:-0400
TZNAME:EDT
DTSTART:20200308T070000
END:DAYLIGHT
BEGIN:STANDARD
TZOFFSETFROM:-0400
TZOFFSETTO:-0500
TZNAME:EST
DTSTART:20201101T060000
END:STANDARD
BEGIN:DAYLIGHT
TZOFFSETFROM:-0500
TZOFFSETTO:-0400
TZNAME:EDT
DTSTART:20210314T070000
END:DAYLIGHT
BEGIN:STANDARD
TZOFFSETFROM:-0400
TZOFFSETTO:-0500
TZNAME:EST
DTSTART:20211107T060000
END:STANDARD
BEGIN:DAYLIGHT
TZOFFSETFROM:-0500
TZOFFSETTO:-0400
TZNAME:EDT
DTSTART:20220313T070000
END:DAYLIGHT
BEGIN:STANDARD
TZOFFSETFROM:-0400
TZOFFSETTO:-0500
TZNAME:EST
DTSTART:20221106T060000
END:STANDARD
BEGIN:DAYLIGHT
TZOFFSETFROM:-0500
TZOFFSETTO:-0400
TZNAME:EDT
DTSTART:20230312T070000
END:DAYLIGHT
BEGIN:STANDARD
TZOFFSETFROM:-0400
TZOFFSETTO:-0500
TZNAME:EST
DTSTART:20231105T060000
END:STANDARD
END:VTIMEZONE
BEGIN:VEVENT
DTSTART;VALUE=DATE:20200123
DTEND;VALUE=DATE:20200128
DTSTAMP:20260422T170745
CREATED:20191127T134219Z
LAST-MODIFIED:20191127T134402Z
UID:1552-1579737600-1580169599@arkansasstreamside.com
SUMMARY:Currently Booked
DESCRIPTION:We are currently booked for these dates.  If any cancellation occur we will update it here.
URL:https://arkansasstreamside.com/event/currently-booked/
END:VEVENT
BEGIN:VEVENT
DTSTART;VALUE=DATE:20200129
DTEND;VALUE=DATE:20200202
DTSTAMP:20260422T170745
CREATED:20191202T142225Z
LAST-MODIFIED:20200112T145632Z
UID:1574-1580256000-1580601599@arkansasstreamside.com
SUMMARY:Group Trip (1-12 anglers) Open – Lodging & Guided Fishing - Kelly Is Open For Guide Trip
DESCRIPTION:3 Days Guided Fishing/4 Nights Lodging $1500 per angler \nOur multi-day package gives you three full days of guided fishing on the White River.  The package also includes lodging and meals at the  White River Trout Lodge. \nKelly Is Open For Guide Trip \n 
URL:https://arkansasstreamside.com/event/group-trip-1-12-anglers-open-lodging-guided-fishing-2/
LOCATION:White River\, 752 County Road 703\, Cotter\, AR\, 72626\, United States
END:VEVENT
BEGIN:VEVENT
DTSTART;VALUE=DATE:20200202
DTEND;VALUE=DATE:20200206
DTSTAMP:20260422T170745
CREATED:20191202T141254Z
LAST-MODIFIED:20191202T141254Z
UID:1568-1580601600-1580947199@arkansasstreamside.com
SUMMARY:Upper Level Open (1-2 anglers) - Lodging & Guided Fishing
DESCRIPTION:3 Days Guided Fishing/4 Nights Lodging $1500 per angler \nOur multi-day package gives you three full days of guided fishing on the White River.  The package also includes lodging and meals at the  White River Trout Lodge.
URL:https://arkansasstreamside.com/event/upper-level-open-1-2-anglers-lodging-guided-fishing/
LOCATION:White River\, 752 County Road 703\, Cotter\, AR\, 72626\, United States
END:VEVENT
BEGIN:VEVENT
DTSTART;VALUE=DATE:20200206
DTEND;VALUE=DATE:20200208
DTSTAMP:20260422T170745
CREATED:20200112T145933Z
LAST-MODIFIED:20200112T145933Z
UID:1609-1580947200-1581119999@arkansasstreamside.com
SUMMARY:Kelly Is Open For Guide Trip
DESCRIPTION:Kelly is open Feb 6th and 7th for guided float trip.
URL:https://arkansasstreamside.com/event/kelly-is-open-for-guide-trip/
LOCATION:White River\, 752 County Road 703\, Cotter\, AR\, 72626\, United States
END:VEVENT
BEGIN:VEVENT
DTSTART;VALUE=DATE:20200207
DTEND;VALUE=DATE:20200211
DTSTAMP:20260422T170745
CREATED:20191202T141459Z
LAST-MODIFIED:20200112T145145Z
UID:1570-1581033600-1581379199@arkansasstreamside.com
SUMMARY:Main Level Open (1-4 anglers) - Lodging & Guided Fishing
DESCRIPTION:3 Days Guided Fishing/4 Nights Lodging $1500 per angler \nOur multi-day package gives you three full days of guided fishing on the White River.  The package also includes lodging and meals at the  White River Trout Lodge.
URL:https://arkansasstreamside.com/event/upper-level-open-1-2-anglers-lodging-guided-fishing-2/
LOCATION:White River\, 752 County Road 703\, Cotter\, AR\, 72626\, United States
END:VEVENT
BEGIN:VEVENT
DTSTART;VALUE=DATE:20200211
DTEND;VALUE=DATE:20200212
DTSTAMP:20260422T170745
CREATED:20200112T150124Z
LAST-MODIFIED:20200112T150124Z
UID:1611-1581379200-1581465599@arkansasstreamside.com
SUMMARY:Kelly Is Open For Guide Trip
DESCRIPTION:Kelly is open for a guided float trip
URL:https://arkansasstreamside.com/event/kelly-is-open-for-guide-trip-2/
LOCATION:White River\, 752 County Road 703\, Cotter\, AR\, 72626\, United States
END:VEVENT
BEGIN:VEVENT
DTSTART;VALUE=DATE:20200212
DTEND;VALUE=DATE:20200216
DTSTAMP:20260422T170745
CREATED:20191202T141741Z
LAST-MODIFIED:20191202T141741Z
UID:1572-1581465600-1581811199@arkansasstreamside.com
SUMMARY:Upper Level Open (1-2 anglers) - Lodging & Guided Fishing
DESCRIPTION:3 Days Guided Fishing/4 Nights Lodging $1500 per angler \nOur multi-day package gives you three full days of guided fishing on the White River.  The package also includes lodging and meals at the  White River Trout Lodge.
URL:https://arkansasstreamside.com/event/upper-level-open-1-2-anglers-lodging-guided-fishing-3/
LOCATION:White River\, 752 County Road 703\, Cotter\, AR\, 72626\, United States
END:VEVENT
BEGIN:VEVENT
DTSTART;VALUE=DATE:20200216
DTEND;VALUE=DATE:20200220
DTSTAMP:20260422T170745
CREATED:20191127T135049Z
LAST-MODIFIED:20191127T135453Z
UID:1556-1581811200-1582156799@arkansasstreamside.com
SUMMARY:Currently Booked
DESCRIPTION:We are currently booked for these dates.  If any cancellation occur we will update it here.
URL:https://arkansasstreamside.com/event/currently-booked-3/
LOCATION:White River\, 752 County Road 703\, Cotter\, AR\, 72626\, United States
END:VEVENT
BEGIN:VEVENT
DTSTART;VALUE=DATE:20200220
DTEND;VALUE=DATE:20200224
DTSTAMP:20260422T170745
CREATED:20191127T135918Z
LAST-MODIFIED:20191127T140236Z
UID:1558-1582156800-1582502399@arkansasstreamside.com
SUMMARY:Group Trip (1-2 anglers) Open – Lodging & Guided Fishing
DESCRIPTION:3 Days Guided Fishing/4 Nights Lodging $1500 per angler \nOur multi-day package gives you three full days of guided fishing on the White River.  The package also includes lodging and meals at the  White River Trout Lodge.
URL:https://arkansasstreamside.com/event/group-trip-1-2-anglers-open-lodging-guided-fishing/
LOCATION:White River\, 752 County Road 703\, Cotter\, AR\, 72626\, United States
END:VEVENT
BEGIN:VEVENT
DTSTART;VALUE=DATE:20200224
DTEND;VALUE=DATE:20200228
DTSTAMP:20260422T170745
CREATED:20191127T140547Z
LAST-MODIFIED:20191127T140547Z
UID:1560-1582502400-1582847999@arkansasstreamside.com
SUMMARY:Currently Booked
DESCRIPTION:We are currently booked for these dates.  If any cancellation occur we will update it here.
URL:https://arkansasstreamside.com/event/currently-booked-4/
LOCATION:White River\, 752 County Road 703\, Cotter\, AR\, 72626\, United States
END:VEVENT
BEGIN:VEVENT
DTSTART;VALUE=DATE:20200302
DTEND;VALUE=DATE:20200309
DTSTAMP:20260422T170745
CREATED:20191127T141059Z
LAST-MODIFIED:20191127T141241Z
UID:1562-1583107200-1583711999@arkansasstreamside.com
SUMMARY:Currently Booked
DESCRIPTION:We are currently booked for these dates.  If any cancellation occur we will update it here.
URL:https://arkansasstreamside.com/event/currently-booked-5/
LOCATION:White River\, 752 County Road 703\, Cotter\, AR\, 72626\, United States
END:VEVENT
BEGIN:VEVENT
DTSTART;VALUE=DATE:20200311
DTEND;VALUE=DATE:20200316
DTSTAMP:20260422T170745
CREATED:20191202T142843Z
LAST-MODIFIED:20191202T143509Z
UID:1576-1583884800-1584316799@arkansasstreamside.com
SUMMARY:Currently Booked
DESCRIPTION:We are currently booked for these dates.  If any cancellation occur we will update it here.
URL:https://arkansasstreamside.com/event/currently-booked-6/
LOCATION:White River\, 752 County Road 703\, Cotter\, AR\, 72626\, United States
END:VEVENT
BEGIN:VEVENT
DTSTART;VALUE=DATE:20200316
DTEND;VALUE=DATE:20200321
DTSTAMP:20260422T170745
CREATED:20191127T141721Z
LAST-MODIFIED:20191127T141721Z
UID:1564-1584316800-1584748799@arkansasstreamside.com
SUMMARY:Group Trip (2-4 anglers) Open – Lodging & Guided Fishing
DESCRIPTION:3 Days Guided Fishing/4 Nights Lodging $1500 per angler \nOur multi-day package gives you three full days of guided fishing on the White River.  The package also includes lodging and meals at the  White River Trout Lodge.
URL:https://arkansasstreamside.com/event/group-trip-2-4-anglers-open-lodging-guided-fishing/
LOCATION:White River\, 752 County Road 703\, Cotter\, AR\, 72626\, United States
END:VEVENT
BEGIN:VEVENT
DTSTART;VALUE=DATE:20200321
DTEND;VALUE=DATE:20200329
DTSTAMP:20260422T170745
CREATED:20191202T143950Z
LAST-MODIFIED:20191202T143950Z
UID:1578-1584748800-1585439999@arkansasstreamside.com
SUMMARY:Currently Booked
DESCRIPTION:We are currently booked for these dates.  If any cancellation occur we will update it here.
URL:https://arkansasstreamside.com/event/currently-booked-7/
LOCATION:White River\, 752 County Road 703\, Cotter\, AR\, 72626\, United States
END:VEVENT
BEGIN:VEVENT
DTSTART;VALUE=DATE:20220108
DTEND;VALUE=DATE:20220109
DTSTAMP:20260422T170745
CREATED:20211130T161418Z
LAST-MODIFIED:20211130T161418Z
UID:1867-1641600000-1641686399@arkansasstreamside.com
SUMMARY:We Start On The White River Arkansas
DESCRIPTION:Our guided fly fishing trips and lodging start on the White River!
URL:https://arkansasstreamside.com/event/we-start-on-the-white-river-arkansas/
END:VEVENT
BEGIN:VEVENT
DTSTART;TZID=America/Detroit:20220114T080000
DTEND;TZID=America/Detroit:20220118T170000
DTSTAMP:20260422T170745
CREATED:20211130T162908Z
LAST-MODIFIED:20211130T163327Z
UID:1873-1642147200-1642525200@arkansasstreamside.com
SUMMARY:Open - guided fishing trips & lodging on the White River Arkansas
DESCRIPTION:These dates are all open for guided fly fishing trips and lodging at the White River Trout Lodge.  We could set up single dates or package price for multiple days along with meals at the lodge.
URL:https://arkansasstreamside.com/event/open-guided-fishing-trips-lodging-on-the-white-river-arkansas/
END:VEVENT
BEGIN:VEVENT
DTSTART;TZID=America/Detroit:20220124T080000
DTEND;TZID=America/Detroit:20220126T170000
DTSTAMP:20260422T170745
CREATED:20211130T164035Z
LAST-MODIFIED:20211130T164035Z
UID:1878-1643011200-1643216400@arkansasstreamside.com
SUMMARY:Open - guided fly fishing and lodging on the White River Arkansas
DESCRIPTION:These dates are all open for guided fly fishing trips and lodging at the White River Trout Lodge. We could set up single dates or package price for multiple days along with meals at the lodge.
URL:https://arkansasstreamside.com/event/open-guided-fly-fishing-and-lodging-on-the-white-river-arkansas/
END:VEVENT
BEGIN:VEVENT
DTSTART;TZID=America/Detroit:20220201T080000
DTEND;TZID=America/Detroit:20220202T170000
DTSTAMP:20260422T170745
CREATED:20211130T164226Z
LAST-MODIFIED:20211130T164226Z
UID:1880-1643702400-1643821200@arkansasstreamside.com
SUMMARY:Open – guided fishing trips & lodging on the White River Arkansas
DESCRIPTION:These dates are all open for guided fly fishing trips and lodging at the White River Trout Lodge. We could set up single dates or package price for multiple days along with meals at the lodge.
URL:https://arkansasstreamside.com/event/open-guided-fishing-trips-lodging-on-the-white-river-arkansas-2/
END:VEVENT
BEGIN:VEVENT
DTSTART;TZID=America/Detroit:20220213T080000
DTEND;TZID=America/Detroit:20220216T170000
DTSTAMP:20260422T170745
CREATED:20211130T164717Z
LAST-MODIFIED:20211130T164717Z
UID:1882-1644739200-1645030800@arkansasstreamside.com
SUMMARY:Open – guided fishing trips & lodging on the White River Arkansas
DESCRIPTION:These dates are all open for guided fly fishing trips and lodging at the White River Trout Lodge. We could set up single dates or package price for multiple days along with meals at the lodge.  1-4 people
URL:https://arkansasstreamside.com/event/open-guided-fishing-trips-lodging-on-the-white-river-arkansas-3/
END:VEVENT
BEGIN:VEVENT
DTSTART;TZID=America/Detroit:20220225T080000
DTEND;TZID=America/Detroit:20220227T170000
DTSTAMP:20260422T170745
CREATED:20211130T170529Z
LAST-MODIFIED:20211130T170529Z
UID:1884-1645776000-1645981200@arkansasstreamside.com
SUMMARY:Open – guided fishing trips & lodging on the White River Arkansas
DESCRIPTION:Feb 25\, 26\, 26 are all open for guided fly fishing trips and Feb 25\,26 open lodging at the White River Trout Lodge. We could set up single dates or package price for multiple days along with meals at the lodge. 1-4 people
URL:https://arkansasstreamside.com/event/open-guided-fishing-trips-lodging-on-the-white-river-arkansas-4/
END:VEVENT
BEGIN:VEVENT
DTSTART;TZID=America/Detroit:20220305T080000
DTEND;TZID=America/Detroit:20220306T170000
DTSTAMP:20260422T170745
CREATED:20211130T183544Z
LAST-MODIFIED:20211130T183544Z
UID:1886-1646467200-1646586000@arkansasstreamside.com
SUMMARY:Open – guided fishing trips & lodging on the White River Arkansas
DESCRIPTION:These dates are all open for guided fly fishing trips and lodging at the White River Trout Lodge. We could set up single dates or package price for multiple days along with meals at the lodge.
URL:https://arkansasstreamside.com/event/open-guided-fishing-trips-lodging-on-the-white-river-arkansas-5/
END:VEVENT
BEGIN:VEVENT
DTSTART;TZID=America/Detroit:20220313T080000
DTEND;TZID=America/Detroit:20220317T170000
DTSTAMP:20260422T170745
CREATED:20211130T183846Z
LAST-MODIFIED:20211130T183846Z
UID:1888-1647158400-1647536400@arkansasstreamside.com
SUMMARY:Open – guided fishing trips & lodging on the White River Arkansas
DESCRIPTION:These dates are all open for guided fly fishing trips and lodging at the White River Trout Lodge. We could set up single dates or package price for multiple days along with meals at the lodge.
URL:https://arkansasstreamside.com/event/open-guided-fishing-trips-lodging-on-the-white-river-arkansas-6/
END:VEVENT
END:VCALENDAR