BEGIN:VCALENDAR
VERSION:2.0
PRODID:-//White River Arkansas Guided Fly Fishing Float Trips - ECPv6.15.20//NONSGML v1.0//EN
CALSCALE:GREGORIAN
METHOD:PUBLISH
X-WR-CALNAME:White River Arkansas Guided Fly Fishing Float Trips
X-ORIGINAL-URL:https://arkansasstreamside.com
X-WR-CALDESC:Events for White River Arkansas Guided Fly Fishing Float Trips
REFRESH-INTERVAL;VALUE=DURATION:PT1H
X-Robots-Tag:noindex
X-PUBLISHED-TTL:PT1H
BEGIN:VTIMEZONE
TZID:America/Detroit
BEGIN:DAYLIGHT
TZOFFSETFROM:-0500
TZOFFSETTO:-0400
TZNAME:EDT
DTSTART:20190310T070000
END:DAYLIGHT
BEGIN:STANDARD
TZOFFSETFROM:-0400
TZOFFSETTO:-0500
TZNAME:EST
DTSTART:20191103T060000
END:STANDARD
BEGIN:DAYLIGHT
TZOFFSETFROM:-0500
TZOFFSETTO:-0400
TZNAME:EDT
DTSTART:20200308T070000
END:DAYLIGHT
BEGIN:STANDARD
TZOFFSETFROM:-0400
TZOFFSETTO:-0500
TZNAME:EST
DTSTART:20201101T060000
END:STANDARD
BEGIN:DAYLIGHT
TZOFFSETFROM:-0500
TZOFFSETTO:-0400
TZNAME:EDT
DTSTART:20210314T070000
END:DAYLIGHT
BEGIN:STANDARD
TZOFFSETFROM:-0400
TZOFFSETTO:-0500
TZNAME:EST
DTSTART:20211107T060000
END:STANDARD
END:VTIMEZONE
BEGIN:VEVENT
DTSTART;VALUE=DATE:20200206
DTEND;VALUE=DATE:20200208
DTSTAMP:20260423T040221
CREATED:20200112T145933Z
LAST-MODIFIED:20200112T145933Z
UID:1609-1580947200-1581119999@arkansasstreamside.com
SUMMARY:Kelly Is Open For Guide Trip
DESCRIPTION:Kelly is open Feb 6th and 7th for guided float trip.
URL:https://arkansasstreamside.com/event/kelly-is-open-for-guide-trip/
LOCATION:White River\, 752 County Road 703\, Cotter\, AR\, 72626\, United States
END:VEVENT
BEGIN:VEVENT
DTSTART;VALUE=DATE:20200202
DTEND;VALUE=DATE:20200206
DTSTAMP:20260423T040221
CREATED:20191202T141254Z
LAST-MODIFIED:20191202T141254Z
UID:1568-1580601600-1580947199@arkansasstreamside.com
SUMMARY:Upper Level Open (1-2 anglers) - Lodging & Guided Fishing
DESCRIPTION:3 Days Guided Fishing/4 Nights Lodging $1500 per angler \nOur multi-day package gives you three full days of guided fishing on the White River.  The package also includes lodging and meals at the  White River Trout Lodge.
URL:https://arkansasstreamside.com/event/upper-level-open-1-2-anglers-lodging-guided-fishing/
LOCATION:White River\, 752 County Road 703\, Cotter\, AR\, 72626\, United States
END:VEVENT
BEGIN:VEVENT
DTSTART;VALUE=DATE:20200129
DTEND;VALUE=DATE:20200202
DTSTAMP:20260423T040221
CREATED:20191202T142225Z
LAST-MODIFIED:20200112T145632Z
UID:1574-1580256000-1580601599@arkansasstreamside.com
SUMMARY:Group Trip (1-12 anglers) Open – Lodging & Guided Fishing - Kelly Is Open For Guide Trip
DESCRIPTION:3 Days Guided Fishing/4 Nights Lodging $1500 per angler \nOur multi-day package gives you three full days of guided fishing on the White River.  The package also includes lodging and meals at the  White River Trout Lodge. \nKelly Is Open For Guide Trip \n 
URL:https://arkansasstreamside.com/event/group-trip-1-12-anglers-open-lodging-guided-fishing-2/
LOCATION:White River\, 752 County Road 703\, Cotter\, AR\, 72626\, United States
END:VEVENT
BEGIN:VEVENT
DTSTART;VALUE=DATE:20200123
DTEND;VALUE=DATE:20200128
DTSTAMP:20260423T040221
CREATED:20191127T134219Z
LAST-MODIFIED:20191127T134402Z
UID:1552-1579737600-1580169599@arkansasstreamside.com
SUMMARY:Currently Booked
DESCRIPTION:We are currently booked for these dates.  If any cancellation occur we will update it here.
URL:https://arkansasstreamside.com/event/currently-booked/
LOCATION:AR
END:VEVENT
BEGIN:VEVENT
DTSTART;VALUE=DATE:20200118
DTEND;VALUE=DATE:20200123
DTSTAMP:20260423T040221
CREATED:20191126T134331Z
LAST-MODIFIED:20200112T144126Z
UID:1533-1579305600-1579737599@arkansasstreamside.com
SUMMARY:Currently Booked
DESCRIPTION:Currently Booked
URL:https://arkansasstreamside.com/event/group-trip-1-12-anglers-open-lodging-guided-fishing/
LOCATION:White River\, 752 County Road 703\, Cotter\, AR\, 72626\, United States
ORGANIZER;CN="":MAILTO:kelly@michiganstreamside.com
END:VEVENT
BEGIN:VEVENT
DTSTART;VALUE=DATE:20200114
DTEND;VALUE=DATE:20200118
DTSTAMP:20260423T040221
CREATED:20191127T134628Z
LAST-MODIFIED:20191127T134628Z
UID:1554-1578960000-1579305599@arkansasstreamside.com
SUMMARY:Currently Booked
DESCRIPTION:We are currently booked for these dates.  If any cancellation occur we will update it here.
URL:https://arkansasstreamside.com/event/currently-booked-2/
LOCATION:White River\, 752 County Road 703\, Cotter\, AR\, 72626\, United States
END:VEVENT
BEGIN:VEVENT
DTSTART;VALUE=DATE:20200113
DTEND;VALUE=DATE:20200114
DTSTAMP:20260423T040221
CREATED:20191126T140323Z
LAST-MODIFIED:20191126T140323Z
UID:1546-1578873600-1578873600@arkansasstreamside.com
SUMMARY:White River Guided Fly Fishing Trip – Open
DESCRIPTION:We have this date open for a full day of guided fly fishing on the White River for 1 or 2 anglers.
URL:https://arkansasstreamside.com/event/white-river-guided-fly-fishing-trip-open-3/
LOCATION:White River\, 752 County Road 703\, Cotter\, AR\, 72626\, United States
END:VEVENT
BEGIN:VEVENT
DTSTART;VALUE=DATE:20200112
DTEND;VALUE=DATE:20200113
DTSTAMP:20260423T040221
CREATED:20191126T140129Z
LAST-MODIFIED:20191126T140129Z
UID:1544-1578787200-1578787200@arkansasstreamside.com
SUMMARY:White River Guided Fly Fishing Trip – Open
DESCRIPTION:We have this date open for a full day of guided fly fishing on the White River for 1 or 2 anglers.
URL:https://arkansasstreamside.com/event/white-river-guided-fly-fishing-trip-open-2/
LOCATION:White River\, 752 County Road 703\, Cotter\, AR\, 72626\, United States
END:VEVENT
BEGIN:VEVENT
DTSTART;VALUE=DATE:20200111
DTEND;VALUE=DATE:20200112
DTSTAMP:20260423T040221
CREATED:20191126T135621Z
LAST-MODIFIED:20191126T135621Z
UID:1542-1578700800-1578787199@arkansasstreamside.com
SUMMARY:White River Guided Fly Fishing Trip - Open
DESCRIPTION:We have this date open for a full day of guided fly fishing on the White River for 1 or 2 anglers.
URL:https://arkansasstreamside.com/event/white-river-guided-fly-fishing-trip-open/
LOCATION:White River\, 752 County Road 703\, Cotter\, AR\, 72626\, United States
END:VEVENT
END:VCALENDAR